BEGIN:VCALENDAR
VERSION:2.0
PRODID:-//hacksw/handcal//NONSGML v1.0//EN
BEGIN:VEVENT
DTSTAMP:20260920T230000Z
DTSTART:20260920T230000Z
DTEND:20260921T010000Z

SUMMARY:Chayanne
DESCRIPTION:See Chayanne live on his Bailemos Otra Vez Tour at State Farm Arena on September 20, 2026 at 7:00 PM. Doors & Entry6:00 PM for the General PublicMake it a NightUpgrade your evening with premium experiences and lounges. Explore VIP add-ons, early entry, and premium seating.TicketsTap Buy Tickets to get official tickets at the best price on Ticketmaster, the official ticketing partner of State Farm Arena.Premium & GroupsMake it unforgettable with a suite for your crew or company night out. (Inquire about suite availability and catering options.)Plan Your VisitReserve parking in advance, add mobile tickets to your wallet for faster entry, and review arena policies before you go.
END:VEVENT
END:VCALENDAR