BEGIN:VCALENDAR
VERSION:2.0
PRODID:-//hacksw/handcal//NONSGML v1.0//EN
BEGIN:VEVENT
DTSTAMP:20250128T003000Z
DTSTART:20250128T003000Z
DTEND:20250128T023000Z

SUMMARY:WWE Monday Night RAW 
DESCRIPTION:WWE MONDAY NIGHT RAW RETURNS TO ATLANTA FOR THE 1st TIME IN OVER A YEAR! LIVE AND BROADCAST TO THE WORLD FROM STATE FARM ARENA SEE ALL OF YOUR FAVORITE SUPERSTARS INCLUDING: SETH ROLLINSDAMIAN PRIEST THE JUDGEMENT DAYGUNTHERJEY USOSAMI ZAYNSHEAMUSDREW MCINTYRE LOGAN PAUL RETURNS TO MONDAY NIGHT RAW IN ATLANTA AND FROM FRIDAY NIGHT SMACKDOWNTHE AMERICAN NIGHTMARE CODY RHODES vs. CARMELO HAYES Tickets start are available at www.ticketmaster.com
END:VEVENT
END:VCALENDAR